BEGIN:VCALENDAR
VERSION:2.0
PRODID:SchoolNow
CALSCALE:GREGORIAN
BEGIN:VEVENT
UID:1f8eb642-4d10-11f0-b1cf-0a58a9feac02
DTSTAMP:20260414T025514Z
SUMMARY:Winter Break - NO SCHOOL
URL;VALUE=URI:https://www.gatewayk12.org/ghs/calendar/8328040/winter-break-
 no-school
DTSTART;VALUE=DATE:20251223
DTEND;VALUE=DATE:20251224
END:VEVENT
END:VCALENDAR
