BEGIN:VCALENDAR
VERSION:2.0
PRODID:SchoolNow
CALSCALE:GREGORIAN
BEGIN:VEVENT
UID:1f8eb804-4d10-11f0-b8bd-0a58a9feac02
DTSTAMP:20260414T025514Z
SUMMARY:Winter Break - NO SCHOOL
URL;VALUE=URI:https://www.gatewayk12.org/ghs/calendar/8328042/winter-break-
 no-school
DTSTART;VALUE=DATE:20251225
DTEND;VALUE=DATE:20251226
END:VEVENT
END:VCALENDAR
