BEGIN:VCALENDAR
VERSION:2.0
PRODID:SchoolNow
CALSCALE:GREGORIAN
BEGIN:VEVENT
UID:1f8eb9c6-4d10-11f0-a62c-0a58a9feac02
DTSTAMP:20260414T025514Z
SUMMARY:Winter Break - NO SCHOOL
URL;VALUE=URI:https://www.gatewayk12.org/ghs/calendar/8328044/winter-break-
 no-school
DTSTART;VALUE=DATE:20251229
DTEND;VALUE=DATE:20251230
END:VEVENT
END:VCALENDAR
