BEGIN:VCALENDAR
VERSION:2.0
PRODID:SchoolNow
CALSCALE:GREGORIAN
BEGIN:VEVENT
UID:1f8ebe1c-4d10-11f0-bafc-0a58a9feac02
DTSTAMP:20260414T025514Z
SUMMARY:In-Service Day - NO SCHOOL
URL;VALUE=URI:https://www.gatewayk12.org/ghs/calendar/8328049/in-service-da
 y-no-school
DTSTART;VALUE=DATE:20260116
DTEND;VALUE=DATE:20260117
END:VEVENT
END:VCALENDAR
