BEGIN:VCALENDAR
VERSION:2.0
PRODID:SchoolNow
CALSCALE:GREGORIAN
BEGIN:VEVENT
UID:1f8ebfca-4d10-11f0-bb11-0a58a9feac02
DTSTAMP:20260414T025514Z
SUMMARY:MLK Day - NO SCHOOL
URL;VALUE=URI:https://www.gatewayk12.org/ghs/calendar/8328051/mlk-day-no-sc
 hool
DTSTART;VALUE=DATE:20260119
DTEND;VALUE=DATE:20260120
END:VEVENT
END:VCALENDAR
