BEGIN:VCALENDAR
VERSION:2.0
PRODID:SchoolNow
CALSCALE:GREGORIAN
BEGIN:VEVENT
UID:1f8ec0c4-4d10-11f0-adc4-0a58a9feac02
DTSTAMP:20260414T025514Z
SUMMARY:In-Service Day - NO SCHOOL
URL;VALUE=URI:https://www.gatewayk12.org/ghs/calendar/8328052/in-service-da
 y-no-school
DTSTART;VALUE=DATE:20260216
DTEND;VALUE=DATE:20260217
END:VEVENT
END:VCALENDAR
