BEGIN:VCALENDAR
VERSION:2.0
PRODID:SchoolNow
CALSCALE:GREGORIAN
BEGIN:VEVENT
UID:1f8ec3a8-4d10-11f0-9628-0a58a9feac02
DTSTAMP:20260414T025514Z
SUMMARY:Spring Break
URL;VALUE=URI:https://www.gatewayk12.org/ghs/calendar/8328055/spring-break
DTSTART;VALUE=DATE:20260402
DTEND;VALUE=DATE:20260403
END:VEVENT
END:VCALENDAR
