BEGIN:VCALENDAR
VERSION:2.0
PRODID:SchoolNow
CALSCALE:GREGORIAN
BEGIN:VEVENT
UID:1f8ec48e-4d10-11f0-a04e-0a58a9feac02
DTSTAMP:20260414T025514Z
SUMMARY:Spring Break
URL;VALUE=URI:https://www.gatewayk12.org/ghs/calendar/8328056/spring-break
DTSTART;VALUE=DATE:20260403
DTEND;VALUE=DATE:20260404
END:VEVENT
END:VCALENDAR
