BEGIN:VCALENDAR
VERSION:2.0
PRODID:SchoolNow
CALSCALE:GREGORIAN
BEGIN:VEVENT
UID:1f8ec72c-4d10-11f0-82b9-0a58a9feac02
DTSTAMP:20260414T025514Z
SUMMARY:Kennywood Picnic
URL;VALUE=URI:https://www.gatewayk12.org/ghs/calendar/8328059/kennywood-pic
 nic
DTSTART;VALUE=DATE:20260516
DTEND;VALUE=DATE:20260517
END:VEVENT
END:VCALENDAR
