BEGIN:VCALENDAR
VERSION:2.0
PRODID:SchoolNow
CALSCALE:GREGORIAN
BEGIN:VEVENT
UID:1f8ec808-4d10-11f0-b071-0a58a9feac02
DTSTAMP:20260414T025514Z
SUMMARY:In-Service Day - NO SCHOOL
URL;VALUE=URI:https://www.gatewayk12.org/ghs/calendar/8328060/in-service-da
 y-no-school
DTSTART;VALUE=DATE:20260519
DTEND;VALUE=DATE:20260520
END:VEVENT
END:VCALENDAR
