BEGIN:VCALENDAR
VERSION:2.0
PRODID:SchoolNow
CALSCALE:GREGORIAN
BEGIN:VEVENT
UID:1f8ec8e4-4d10-11f0-8322-0a58a9feac02
DTSTAMP:20260414T025514Z
SUMMARY:Memorial Day - NO SCHOOL
URL;VALUE=URI:https://www.gatewayk12.org/ghs/calendar/8328061/memorial-day-
 no-school
DTSTART;VALUE=DATE:20260525
DTEND;VALUE=DATE:20260526
END:VEVENT
END:VCALENDAR
