BEGIN:VCALENDAR
VERSION:2.0
PRODID:SchoolNow
CALSCALE:GREGORIAN
BEGIN:VEVENT
UID:1f8ec9ca-4d10-11f0-a2c9-0a58a9feac02
DTSTAMP:20260414T025514Z
SUMMARY:Graduation Class of 2026
URL;VALUE=URI:https://www.gatewayk12.org/ghs/calendar/8328062/graduation-cl
 ass-of-2026
DTSTART;VALUE=DATE:20260603
DTEND;VALUE=DATE:20260604
END:VEVENT
END:VCALENDAR
