BEGIN:VCALENDAR
VERSION:2.0
PRODID:SchoolNow
CALSCALE:GREGORIAN
BEGIN:VEVENT
UID:1f8ecaa6-4d10-11f0-a0eb-0a58a9feac02
DTSTAMP:20260414T025514Z
SUMMARY:Last Student Day
URL;VALUE=URI:https://www.gatewayk12.org/ghs/calendar/8328063/last-student-
 day
DTSTART;VALUE=DATE:20260603
DTEND;VALUE=DATE:20260604
END:VEVENT
END:VCALENDAR
