BEGIN:VCALENDAR
VERSION:2.0
PRODID:SchoolNow
CALSCALE:GREGORIAN
BEGIN:VEVENT
UID:1f8ecb82-4d10-11f0-8d85-0a58a9feac02
DTSTAMP:20260414T025514Z
SUMMARY:In-Service Day for Teachers
URL;VALUE=URI:https://www.gatewayk12.org/ghs/calendar/8328064/in-service-da
 y-for-teachers
DTSTART;VALUE=DATE:20260604
DTEND;VALUE=DATE:20260605
END:VEVENT
END:VCALENDAR
