BEGIN:VCALENDAR
VERSION:2.0
PRODID:SchoolNow
CALSCALE:GREGORIAN
BEGIN:VEVENT
UID:1f8ecc68-4d10-11f0-90a5-0a58a9feac02
DTSTAMP:20260414T025514Z
SUMMARY:Clerical Day for Teachers
URL;VALUE=URI:https://www.gatewayk12.org/ghs/calendar/8328065/clerical-day-
 for-teachers
DTSTART;VALUE=DATE:20260605
DTEND;VALUE=DATE:20260606
END:VEVENT
END:VCALENDAR
