BEGIN:VCALENDAR
VERSION:2.0
PRODID:SchoolNow
CALSCALE:GREGORIAN
BEGIN:VEVENT
UID:c5f4c12a-c600-11f0-bf9a-0e37f5d1dbc1
DTSTAMP:20260414T025514Z
SUMMARY:Band & Orchestra Concert
URL;VALUE=URI:https://www.gatewayk12.org/ghs/calendar/8805055/band-orchestr
 a-concert
DTSTART:20251219T000000Z
DTEND:20251219T011500Z
END:VEVENT
END:VCALENDAR
