BEGIN:VCALENDAR
VERSION:2.0
PRODID:SchoolNow
CALSCALE:GREGORIAN
BEGIN:VEVENT
UID:c5f4c3b4-c600-11f0-ba83-0e37f5d1dbc1
DTSTAMP:20260414T025514Z
SUMMARY:GHS Chorus/8th Chorus Show
URL;VALUE=URI:https://www.gatewayk12.org/ghs/calendar/8805057/ghs-chorus-8t
 h-chorus-show
DTSTART:20260305T000000Z
DTEND:20260305T045959Z
END:VEVENT
END:VCALENDAR
