BEGIN:VCALENDAR
VERSION:2.0
PRODID:SchoolNow
CALSCALE:GREGORIAN
BEGIN:VEVENT
UID:c5f4c95e-c600-11f0-b8f0-0e37f5d1dbc1
DTSTAMP:20260414T025514Z
SUMMARY:GHS Chorus Performance
URL;VALUE=URI:https://www.gatewayk12.org/ghs/calendar/8805063/ghs-chorus-pe
 rformance
DTSTART:20260512T230000Z
DTEND:20260513T035959Z
END:VEVENT
END:VCALENDAR
