BEGIN:VCALENDAR
VERSION:2.0
PRODID:SchoolNow
CALSCALE:GREGORIAN
BEGIN:VEVENT
UID:c5f4ca4e-c600-11f0-9f23-0e37f5d1dbc1
DTSTAMP:20260414T025514Z
SUMMARY:GHS Orchestra
URL;VALUE=URI:https://www.gatewayk12.org/ghs/calendar/8805064/ghs-orchestra
DTSTART:20260521T230000Z
DTEND:20260522T035959Z
END:VEVENT
END:VCALENDAR
