BEGIN:VCALENDAR
VERSION:2.0
PRODID:SchoolNow
CALSCALE:GREGORIAN
BEGIN:VEVENT
UID:3452459a-cee2-11f0-8ff7-0a58a9feac02
DTSTAMP:20260414T025514Z
SUMMARY:Biology Keystone Testing
URL;VALUE=URI:https://www.gatewayk12.org/ghs/calendar/8814782/biology-keyst
 one-testing
DTSTART;VALUE=DATE:20251215
DTEND;VALUE=DATE:20251216
END:VEVENT
END:VCALENDAR
