BEGIN:VCALENDAR
VERSION:2.0
PRODID:SchoolNow
CALSCALE:GREGORIAN
BEGIN:VEVENT
UID:34524680-cee2-11f0-9cf2-0a58a9feac02
DTSTAMP:20260414T025514Z
SUMMARY:Biology Keystone Testing
URL;VALUE=URI:https://www.gatewayk12.org/ghs/calendar/8814783/biology-keyst
 one-testing
DTSTART;VALUE=DATE:20251216
DTEND;VALUE=DATE:20251217
END:VEVENT
END:VCALENDAR
