BEGIN:VCALENDAR
VERSION:2.0
PRODID:SchoolNow
CALSCALE:GREGORIAN
BEGIN:VEVENT
UID:3452484c-cee2-11f0-8d8b-0a58a9feac02
DTSTAMP:20260414T025514Z
SUMMARY:Algebra Keystone Tutoring
URL;VALUE=URI:https://www.gatewayk12.org/ghs/calendar/8814785/algebra-keyst
 one-tutoring
DTSTART:20251218T193000Z
DTEND:20251218T210000Z
END:VEVENT
END:VCALENDAR
