BEGIN:VCALENDAR
VERSION:2.0
PRODID:SchoolNow
CALSCALE:GREGORIAN
BEGIN:VEVENT
UID:b49fb596-d26d-11f0-a18d-0affcd300a33
DTSTAMP:20260414T025514Z
SUMMARY:Senior Awards Night
URL;VALUE=URI:https://www.gatewayk12.org/ghs/calendar/8819057/senior-awards
 -night
DTSTART:20260430T220000Z
DTEND:20260501T000000Z
END:VEVENT
END:VCALENDAR
