BEGIN:VCALENDAR
VERSION:2.0
PRODID:SchoolNow
CALSCALE:GREGORIAN
BEGIN:VEVENT
UID:b49ff1dc-d26d-11f0-803c-0affcd300a33
DTSTAMP:20260414T025514Z
SUMMARY:Curriculum Night
URL;VALUE=URI:https://www.gatewayk12.org/ghs/calendar/8819058/curriculum-ni
 ght
DTSTART:20260226T230000Z
DTEND:20260227T000000Z
END:VEVENT
END:VCALENDAR
