BEGIN:VCALENDAR
VERSION:2.0
PRODID:SchoolNow
CALSCALE:GREGORIAN
BEGIN:VEVENT
UID:7a031a32-ed4c-11f0-9984-0a58a9feac02
DTSTAMP:20260414T025514Z
SUMMARY:Mid-Term Schedule
URL;VALUE=URI:https://www.gatewayk12.org/ghs/calendar/8833229/mid-term-sche
 dule
DTSTART:20260113T123000Z
DTEND:20260113T192700Z
END:VEVENT
END:VCALENDAR
