BEGIN:VCALENDAR
VERSION:2.0
PRODID:SchoolNow
CALSCALE:GREGORIAN
BEGIN:VEVENT
UID:7a033940-ed4c-11f0-a80b-0a58a9feac02
DTSTAMP:20260414T025514Z
SUMMARY:Mid-Term Exam Schedule
URL;VALUE=URI:https://www.gatewayk12.org/ghs/calendar/8833230/mid-term-exam
 -schedule
DTSTART:20260114T123000Z
DTEND:20260114T192700Z
END:VEVENT
END:VCALENDAR
