BEGIN:VCALENDAR
VERSION:2.0
PRODID:SchoolNow
CALSCALE:GREGORIAN
BEGIN:VEVENT
UID:7a033bfc-ed4c-11f0-8528-0a58a9feac02
DTSTAMP:20260414T025514Z
SUMMARY:End of 2nd 9 Weeks
URL;VALUE=URI:https://www.gatewayk12.org/ghs/calendar/8833232/end-of-2nd-9-
 weeks
DTSTART:20260115T123000Z
DTEND:20260115T192700Z
END:VEVENT
END:VCALENDAR
