BEGIN:VCALENDAR
VERSION:2.0
PRODID:SchoolNow
CALSCALE:GREGORIAN
BEGIN:VEVENT
UID:0556148c-16d7-11f1-bc3e-0a58a9feac02
DTSTAMP:20260414T025514Z
SUMMARY:Forbes Open House
URL;VALUE=URI:https://www.gatewayk12.org/ghs/calendar/8886437/forbes-open-h
 ouse
DTSTART:20260312T220000Z
DTEND:20260313T000000Z
END:VEVENT
END:VCALENDAR
