BEGIN:VCALENDAR
VERSION:2.0
PRODID:SchoolNow
CALSCALE:GREGORIAN
BEGIN:VEVENT
UID:055634a8-16d7-11f1-8094-0a58a9feac02
DTSTAMP:20260414T025514Z
SUMMARY:No Forbes Road Classes
URL;VALUE=URI:https://www.gatewayk12.org/ghs/calendar/8886438/no-forbes-roa
 d-classes
DTSTART:20260306T110000Z
DTEND:20260306T200000Z
END:VEVENT
END:VCALENDAR
