BEGIN:VCALENDAR
VERSION:2.0
PRODID:SchoolNow
CALSCALE:GREGORIAN
BEGIN:VEVENT
UID:05563638-16d7-11f1-9dbb-0a58a9feac02
DTSTAMP:20260414T025514Z
SUMMARY:GHS Musical Ticket Sales
URL;VALUE=URI:https://www.gatewayk12.org/ghs/calendar/8886439/ghs-musical-t
 icket-sales
DTSTART:20260321T133000Z
DTEND:20260321T153000Z
END:VEVENT
END:VCALENDAR
