BEGIN:VCALENDAR
VERSION:2.0
PRODID:SchoolNow
CALSCALE:GREGORIAN
BEGIN:VEVENT
UID:0556376e-16d7-11f1-be82-0a58a9feac02
DTSTAMP:20260414T025514Z
SUMMARY:GHS Musical Ticket Sales
URL;VALUE=URI:https://www.gatewayk12.org/ghs/calendar/8886440/ghs-musical-t
 icket-sales
DTSTART:20260404T133000Z
DTEND:20260404T153000Z
END:VEVENT
END:VCALENDAR
