BEGIN:VCALENDAR
VERSION:2.0
PRODID:SchoolNow
CALSCALE:GREGORIAN
BEGIN:VEVENT
UID:0556387c-16d7-11f1-917a-0a58a9feac02
DTSTAMP:20260414T025514Z
SUMMARY:GHS Musical Ticket Sales
URL;VALUE=URI:https://www.gatewayk12.org/ghs/calendar/8886441/ghs-musical-t
 icket-sales
DTSTART:20260409T223000Z
DTEND:20260409T233000Z
END:VEVENT
END:VCALENDAR
