BEGIN:VCALENDAR
VERSION:2.0
PRODID:SchoolNow
CALSCALE:GREGORIAN
BEGIN:VEVENT
UID:05563a5c-16d7-11f1-a114-0a58a9feac02
DTSTAMP:20260414T025514Z
SUMMARY:Musical-Catch Me If You Can
URL;VALUE=URI:https://www.gatewayk12.org/ghs/calendar/8886443/musical-catch
 -me-if-you-can
DTSTART:20260410T233000Z
DTEND:20260411T013000Z
END:VEVENT
END:VCALENDAR
