BEGIN:VCALENDAR
VERSION:2.0
PRODID:SchoolNow
CALSCALE:GREGORIAN
BEGIN:VEVENT
UID:b36e7814-1936-11f1-8a52-0a58a9feac02
DTSTAMP:20260414T025514Z
SUMMARY:NHS Induction Ceremony
URL;VALUE=URI:https://www.gatewayk12.org/ghs/calendar/8895622/nhs-induction
 -ceremony
DTSTART:20260423T230000Z
DTEND:20260424T000000Z
END:VEVENT
END:VCALENDAR
