BEGIN:VCALENDAR
VERSION:2.0
PRODID:SchoolNow
CALSCALE:GREGORIAN
BEGIN:VEVENT
UID:b36e96c8-1936-11f1-aeb5-0a58a9feac02
DTSTAMP:20260414T025514Z
SUMMARY:GHS-Preschool Program Grad
URL;VALUE=URI:https://www.gatewayk12.org/ghs/calendar/8895623/ghs-preschool
 -program-grad
DTSTART:20260429T143000Z
DTEND:20260429T160000Z
END:VEVENT
END:VCALENDAR
