BEGIN:VCALENDAR
VERSION:2.0
PRODID:SchoolNow
CALSCALE:GREGORIAN
BEGIN:VEVENT
UID:b36e9862-1936-11f1-bd66-0a58a9feac02
DTSTAMP:20260414T025514Z
SUMMARY:Forbes Graduation at Penn Hill
URL;VALUE=URI:https://www.gatewayk12.org/ghs/calendar/8895624/forbes-gradua
 tion-at-penn-hill
DTSTART:20260513T220000Z
DTEND:20260514T000000Z
END:VEVENT
END:VCALENDAR
