BEGIN:VCALENDAR
VERSION:2.0
PRODID:SchoolNow
CALSCALE:GREGORIAN
BEGIN:VEVENT
UID:b36e9984-1936-11f1-8c2f-0a58a9feac02
DTSTAMP:20260414T025514Z
SUMMARY:JR/SR Prom -Carnegie Music Hal
URL;VALUE=URI:https://www.gatewayk12.org/ghs/calendar/8895625/jr-sr-prom-ca
 rnegie-music-hal
DTSTART:20260515T220000Z
DTEND:20260516T010000Z
END:VEVENT
END:VCALENDAR
