BEGIN:VCALENDAR
VERSION:2.0
PRODID:SchoolNow
CALSCALE:GREGORIAN
BEGIN:VEVENT
UID:b36e9a92-1936-11f1-8b8f-0a58a9feac02
DTSTAMP:20260414T025514Z
SUMMARY:Last Senior Day
URL;VALUE=URI:https://www.gatewayk12.org/ghs/calendar/8895626/last-senior-d
 ay
DTSTART:20260527T113000Z
DTEND:20260527T183000Z
END:VEVENT
END:VCALENDAR
