BEGIN:VCALENDAR
VERSION:2.0
PRODID:SchoolNow
CALSCALE:GREGORIAN
BEGIN:VEVENT
UID:b36e9b82-1936-11f1-b139-0a58a9feac02
DTSTAMP:20260414T025514Z
SUMMARY:Last Day for Forbes
URL;VALUE=URI:https://www.gatewayk12.org/ghs/calendar/8895627/last-day-for-
 forbes
DTSTART:20260527T110000Z
DTEND:20260527T170000Z
END:VEVENT
END:VCALENDAR
