BEGIN:VCALENDAR
VERSION:2.0
PRODID:SchoolNow
CALSCALE:GREGORIAN
BEGIN:VEVENT
UID:b36e9c72-1936-11f1-af10-0a58a9feac02
DTSTAMP:20260414T025514Z
SUMMARY:9th-11th Finals
URL;VALUE=URI:https://www.gatewayk12.org/ghs/calendar/8895628/9th-11th-fina
 ls
DTSTART:20260529T113000Z
DTEND:20260529T150000Z
END:VEVENT
END:VCALENDAR
