BEGIN:VCALENDAR
VERSION:2.0
PRODID:SchoolNow
CALSCALE:GREGORIAN
BEGIN:VEVENT
UID:b36e9f2e-1936-11f1-ba79-0a58a9feac02
DTSTAMP:20260414T025514Z
SUMMARY:Virtual Graduation Meeting
URL;VALUE=URI:https://www.gatewayk12.org/ghs/calendar/8895631/virtual-gradu
 ation-meeting
DTSTART:20260528T150000Z
DTEND:20260528T160000Z
END:VEVENT
END:VCALENDAR
