BEGIN:VCALENDAR
VERSION:2.0
PRODID:SchoolNow
CALSCALE:GREGORIAN
BEGIN:VEVENT
UID:b36ea014-1936-11f1-a90c-0a58a9feac02
DTSTAMP:20260414T025514Z
SUMMARY:Seniors Elementary Visit
URL;VALUE=URI:https://www.gatewayk12.org/ghs/calendar/8895632/seniors-eleme
 ntary-visit
DTSTART:20260529T140000Z
DTEND:20260529T160000Z
END:VEVENT
END:VCALENDAR
