BEGIN:VCALENDAR
VERSION:2.0
PRODID:SchoolNow
CALSCALE:GREGORIAN
BEGIN:VEVENT
UID:b36ea0f0-1936-11f1-95ab-0a58a9feac02
DTSTAMP:20260414T025514Z
SUMMARY:Senior Class Picnic
URL;VALUE=URI:https://www.gatewayk12.org/ghs/calendar/8895633/senior-class-
 picnic
DTSTART:20260601T153000Z
DTEND:20260601T180000Z
END:VEVENT
END:VCALENDAR
