BEGIN:VCALENDAR
VERSION:2.0
PRODID:SchoolNow
CALSCALE:GREGORIAN
BEGIN:VEVENT
UID:b36ea1d6-1936-11f1-8907-0a58a9feac02
DTSTAMP:20260414T025514Z
SUMMARY:Graduation Practice
URL;VALUE=URI:https://www.gatewayk12.org/ghs/calendar/8895634/graduation-pr
 actice
DTSTART:20260602T123000Z
DTEND:20260602T150000Z
END:VEVENT
END:VCALENDAR
