BEGIN:VCALENDAR
VERSION:2.0
PRODID:SchoolNow
CALSCALE:GREGORIAN
BEGIN:VEVENT
UID:b36ea2b2-1936-11f1-a078-0a58a9feac02
DTSTAMP:20260414T025514Z
SUMMARY:Orchestra/Band Concert
URL;VALUE=URI:https://www.gatewayk12.org/ghs/calendar/8895635/orchestra-ban
 d-concert
DTSTART:20260306T000000Z
DTEND:20260306T010000Z
END:VEVENT
END:VCALENDAR
