BEGIN:VCALENDAR
VERSION:2.0
PRODID:SchoolNow
CALSCALE:GREGORIAN
BEGIN:VEVENT
UID:b36ea38e-1936-11f1-8adf-0a58a9feac02
DTSTAMP:20260414T025514Z
SUMMARY:AP Testing
URL;VALUE=URI:https://www.gatewayk12.org/ghs/calendar/8895636/ap-testing
DTSTART:20260511T113000Z
DTEND:20260511T150000Z
END:VEVENT
END:VCALENDAR
