BEGIN:VCALENDAR
VERSION:2.0
PRODID:SchoolNow
CALSCALE:GREGORIAN
BEGIN:VEVENT
UID:b36ea46a-1936-11f1-8f84-0a58a9feac02
DTSTAMP:20260414T025514Z
SUMMARY:AP Testing
URL;VALUE=URI:https://www.gatewayk12.org/ghs/calendar/8895637/ap-testing
DTSTART:20260512T113000Z
DTEND:20260512T150000Z
END:VEVENT
END:VCALENDAR
