BEGIN:VCALENDAR
VERSION:2.0
PRODID:SchoolNow
CALSCALE:GREGORIAN
BEGIN:VEVENT
UID:b36ea550-1936-11f1-84c8-0a58a9feac02
DTSTAMP:20260414T025514Z
SUMMARY:Keystone Testing
URL;VALUE=URI:https://www.gatewayk12.org/ghs/calendar/8895638/keystone-test
 ing
DTSTART:20260511T113000Z
DTEND:20260511T150000Z
END:VEVENT
END:VCALENDAR
