BEGIN:VCALENDAR
VERSION:2.0
PRODID:SchoolNow
CALSCALE:GREGORIAN
BEGIN:VEVENT
UID:b36ea712-1936-11f1-ae1f-0a58a9feac02
DTSTAMP:20260414T025514Z
SUMMARY:Keystone Testing
URL;VALUE=URI:https://www.gatewayk12.org/ghs/calendar/8895640/keystone-test
 ing
DTSTART:20260513T113000Z
DTEND:20260513T150000Z
END:VEVENT
END:VCALENDAR
