BEGIN:VCALENDAR
VERSION:2.0
PRODID:SchoolNow
CALSCALE:GREGORIAN
BEGIN:VEVENT
UID:136cd5b2-1df6-11f1-8c73-0a58a9feac02
DTSTAMP:20260414T025514Z
SUMMARY:Percussion/Winter Guard Show
URL;VALUE=URI:https://www.gatewayk12.org/ghs/calendar/8912311/percussion-wi
 nter-guard-show
DTSTART:20260314T120000Z
DTEND:20260315T030000Z
END:VEVENT
END:VCALENDAR
